BEGIN:VCALENDAR
VERSION:2.0
PRODID:-//New Wine Cymru - ECPv6.15.18//NONSGML v1.0//EN
CALSCALE:GREGORIAN
METHOD:PUBLISH
X-WR-CALNAME:New Wine Cymru
X-ORIGINAL-URL:https://newwinecymru.co.uk
X-WR-CALDESC:Events for New Wine Cymru
REFRESH-INTERVAL;VALUE=DURATION:PT1H
X-Robots-Tag:noindex
X-PUBLISHED-TTL:PT1H
BEGIN:VTIMEZONE
TZID:Europe/London
BEGIN:DAYLIGHT
TZOFFSETFROM:+0000
TZOFFSETTO:+0100
TZNAME:BST
DTSTART:20200329T010000
END:DAYLIGHT
BEGIN:STANDARD
TZOFFSETFROM:+0100
TZOFFSETTO:+0000
TZNAME:GMT
DTSTART:20201025T010000
END:STANDARD
BEGIN:DAYLIGHT
TZOFFSETFROM:+0000
TZOFFSETTO:+0100
TZNAME:BST
DTSTART:20210328T010000
END:DAYLIGHT
BEGIN:STANDARD
TZOFFSETFROM:+0100
TZOFFSETTO:+0000
TZNAME:GMT
DTSTART:20211031T010000
END:STANDARD
BEGIN:DAYLIGHT
TZOFFSETFROM:+0000
TZOFFSETTO:+0100
TZNAME:BST
DTSTART:20220327T010000
END:DAYLIGHT
BEGIN:STANDARD
TZOFFSETFROM:+0100
TZOFFSETTO:+0000
TZNAME:GMT
DTSTART:20221030T010000
END:STANDARD
END:VTIMEZONE
BEGIN:VEVENT
DTSTART;TZID=Europe/London:20210223T100000
DTEND;TZID=Europe/London:20210223T120000
DTSTAMP:20260420T144742
CREATED:20201201T115104Z
LAST-MODIFIED:20201201T120038Z
UID:6530-1614074400-1614081600@newwinecymru.co.uk
SUMMARY:South West Leaders online
DESCRIPTION:South West Leaders Online with Rob Jones\n\n\n\n\n\nThis event is free and available via zoom. To join\, please contact the office via info@newwinecymru.co.uk for the code. \n\n\n\nGuest speaker: Rob Jones\n\n\n\n\n\n\n\nRob was powerfully converted as a teenager following a serious accident and miraculous healing. Rob is part of Acts Community Church\, Rhondda and supports church plants and churches across Wales. He has a passion for worship and is a Welsh speaker. Rob is Chair of the NWC Board
URL:https://newwinecymru.co.uk/event/south-west-leaders-day-18
CATEGORIES:Church Leaders,Ministry Leaders,South West,Women in Leadership,Worship,Young Leaders
ATTACH;FMTTYPE=image/jpeg:https://newwinecymru.s3.eu-west-2.amazonaws.com/wp-content/uploads/2020/01/25130334/shutterstock_99570950-scaled.jpg
END:VEVENT
BEGIN:VEVENT
DTSTART;TZID=Europe/London:20210223T100000
DTEND;TZID=Europe/London:20210223T120000
DTSTAMP:20260420T144742
CREATED:20201201T120658Z
LAST-MODIFIED:20201201T120810Z
UID:6703-1614074400-1614081600@newwinecymru.co.uk
SUMMARY:South Wales Leaders online
DESCRIPTION:For all leaders & their teams with speaker Steve Ball\n\n\n\n\n\nThis event is free and available via zoom. To join\, please contact the office via info@newwinecymru.co.uk for the code. \n\n\n\nGuest Speaker:\n\n\n\n\n\n\n\n\n\n\n\nSteve Ball\n\n\n\nSteve has been a member of the Elim NLT since December 2018 when he became a regional leader. Previously\, he was Senior Pastor of City Church Cardiff. \n\n\n\nSteve is a member of the  Core Leadership team for New Wine Cymru
URL:https://newwinecymru.co.uk/event/south-wales-leaders-online
CATEGORIES:Church Leaders,Ministry Leaders,South,South Wales,Women in Leadership,Worship,Young Leaders
ATTACH;FMTTYPE=image/jpeg:https://newwinecymru.s3.eu-west-2.amazonaws.com/wp-content/uploads/2020/01/25130312/beach-2006993__340.jpg
END:VEVENT
END:VCALENDAR