BEGIN:VCALENDAR
VERSION:2.0
PRODID:-//New Wine Cymru - ECPv6.15.18//NONSGML v1.0//EN
CALSCALE:GREGORIAN
METHOD:PUBLISH
X-WR-CALNAME:New Wine Cymru
X-ORIGINAL-URL:https://newwinecymru.co.uk
X-WR-CALDESC:Events for New Wine Cymru
REFRESH-INTERVAL;VALUE=DURATION:PT1H
X-Robots-Tag:noindex
X-PUBLISHED-TTL:PT1H
BEGIN:VTIMEZONE
TZID:Europe/London
BEGIN:DAYLIGHT
TZOFFSETFROM:+0000
TZOFFSETTO:+0100
TZNAME:BST
DTSTART:20200329T010000
END:DAYLIGHT
BEGIN:STANDARD
TZOFFSETFROM:+0100
TZOFFSETTO:+0000
TZNAME:GMT
DTSTART:20201025T010000
END:STANDARD
BEGIN:DAYLIGHT
TZOFFSETFROM:+0000
TZOFFSETTO:+0100
TZNAME:BST
DTSTART:20210328T010000
END:DAYLIGHT
BEGIN:STANDARD
TZOFFSETFROM:+0100
TZOFFSETTO:+0000
TZNAME:GMT
DTSTART:20211031T010000
END:STANDARD
BEGIN:DAYLIGHT
TZOFFSETFROM:+0000
TZOFFSETTO:+0100
TZNAME:BST
DTSTART:20220327T010000
END:DAYLIGHT
BEGIN:STANDARD
TZOFFSETFROM:+0100
TZOFFSETTO:+0000
TZNAME:GMT
DTSTART:20221030T010000
END:STANDARD
END:VTIMEZONE
BEGIN:VEVENT
DTSTART;TZID=Europe/London:20210209T100000
DTEND;TZID=Europe/London:20210209T113000
DTSTAMP:20260420T144726
CREATED:20201117T141234Z
LAST-MODIFIED:20201217T093041Z
UID:6664-1612864800-1612870200@newwinecymru.co.uk
SUMMARY:East Valleys Leaders' online
DESCRIPTION:For all leaders & their teams with speaker Steve Ball\n\n\n\nThis event is available on Zoom. To access the code\, please email the office at: info@newwinecymru.co.uk \n\n\n\n\n\n\n\n\n\n\n\nSteve Ball\n\n\n\nSteve has been a member of the Elim National Leadership Team since 2018 when he became regional leader for Wales & southern England. Previously he was Senior Pastor of City Church\, Cardiff. Steve is a member of the South East region leadership team of New Wine Cymru.  He is married to Helen and they have three grown up children
URL:https://newwinecymru.co.uk/event/east-valleys-leaders-day-3
CATEGORIES:Church Leaders,East Valleys,Ministry Leaders,Women in Leadership,Worship,Young Leaders
ATTACH;FMTTYPE=image/jpeg:https://newwinecymru.s3.eu-west-2.amazonaws.com/wp-content/uploads/2020/01/25130321/shutterstock_1407813434-scaled.jpg
END:VEVENT
END:VCALENDAR