BEGIN:VCALENDAR
VERSION:2.0
PRODID:-//New Wine Cymru - ECPv6.15.18//NONSGML v1.0//EN
CALSCALE:GREGORIAN
METHOD:PUBLISH
X-ORIGINAL-URL:https://newwinecymru.co.uk
X-WR-CALDESC:Events for New Wine Cymru
REFRESH-INTERVAL;VALUE=DURATION:PT1H
X-Robots-Tag:noindex
X-PUBLISHED-TTL:PT1H
BEGIN:VTIMEZONE
TZID:Europe/London
BEGIN:DAYLIGHT
TZOFFSETFROM:+0000
TZOFFSETTO:+0100
TZNAME:BST
DTSTART:20190331T010000
END:DAYLIGHT
BEGIN:STANDARD
TZOFFSETFROM:+0100
TZOFFSETTO:+0000
TZNAME:GMT
DTSTART:20191027T010000
END:STANDARD
BEGIN:DAYLIGHT
TZOFFSETFROM:+0000
TZOFFSETTO:+0100
TZNAME:BST
DTSTART:20200329T010000
END:DAYLIGHT
BEGIN:STANDARD
TZOFFSETFROM:+0100
TZOFFSETTO:+0000
TZNAME:GMT
DTSTART:20201025T010000
END:STANDARD
BEGIN:DAYLIGHT
TZOFFSETFROM:+0000
TZOFFSETTO:+0100
TZNAME:BST
DTSTART:20210328T010000
END:DAYLIGHT
BEGIN:STANDARD
TZOFFSETFROM:+0100
TZOFFSETTO:+0000
TZNAME:GMT
DTSTART:20211031T010000
END:STANDARD
END:VTIMEZONE
BEGIN:VEVENT
DTSTART;TZID=Europe/London:20200310T093000
DTEND;TZID=Europe/London:20200310T150000
DTSTAMP:20260424T211039
CREATED:20200120T114616Z
LAST-MODIFIED:20200219T113134Z
UID:5699-1583832600-1583852400@newwinecymru.co.uk
SUMMARY:South Wales Leaders day
DESCRIPTION:For all leaders & their teams with speakers \n\n\n\nPaul Manwaring & Sarah Richards\n\n\n\nWelcome to the next South Wales Leaders’ Day for 2020! \n\n\n\nThis event will include time together for teaching\, ministry\, worship\, prayer & lunch. \n\n\n\n\n\n\n\n\n\n\n\n\n\n\n\n\n\n\n\n\n\n\n\n\n\n\n\nPaul Manwaring\n\n\n\nPaul Manwaring is part of the Senior Leadership team of  Bethel Church. After serving in California for over 15 years\, he & his wife Sue returned to live & minister in Europe. Paul is a member of the Europe Shall Be Saved Core Team and has a passion for evangelism. \n\n\n\nFor more details\, click here \n\n\n\n\n\nSarah Richards\n\n\n\nSarah is Senior Leader of Cornerstone Church Swansea and is a member of the New Wine Cymru Core team.  Sarah is a leadership developer\, strategist and communicator.
URL:https://newwinecymru.co.uk/event/south-wales-leaders-day-3
LOCATION:Myrtle House\, 15 Myrtle Terrace\, Llanelli\, SA15 1LH\, United Kingdom
CATEGORIES:South Wales
ATTACH;FMTTYPE=image/jpeg:https://newwinecymru.s3.eu-west-2.amazonaws.com/wp-content/uploads/2020/01/25130312/beach-2006993__340.jpg
END:VEVENT
END:VCALENDAR