BEGIN:VCALENDAR
VERSION:2.0
PRODID:-//New Wine Cymru - ECPv6.15.18//NONSGML v1.0//EN
CALSCALE:GREGORIAN
METHOD:PUBLISH
X-WR-CALNAME:New Wine Cymru
X-ORIGINAL-URL:https://newwinecymru.co.uk
X-WR-CALDESC:Events for New Wine Cymru
REFRESH-INTERVAL;VALUE=DURATION:PT1H
X-Robots-Tag:noindex
X-PUBLISHED-TTL:PT1H
BEGIN:VTIMEZONE
TZID:Europe/London
BEGIN:DAYLIGHT
TZOFFSETFROM:+0000
TZOFFSETTO:+0100
TZNAME:BST
DTSTART:20190331T010000
END:DAYLIGHT
BEGIN:STANDARD
TZOFFSETFROM:+0100
TZOFFSETTO:+0000
TZNAME:GMT
DTSTART:20191027T010000
END:STANDARD
BEGIN:DAYLIGHT
TZOFFSETFROM:+0000
TZOFFSETTO:+0100
TZNAME:BST
DTSTART:20200329T010000
END:DAYLIGHT
BEGIN:STANDARD
TZOFFSETFROM:+0100
TZOFFSETTO:+0000
TZNAME:GMT
DTSTART:20201025T010000
END:STANDARD
BEGIN:DAYLIGHT
TZOFFSETFROM:+0000
TZOFFSETTO:+0100
TZNAME:BST
DTSTART:20210328T010000
END:DAYLIGHT
BEGIN:STANDARD
TZOFFSETFROM:+0100
TZOFFSETTO:+0000
TZNAME:GMT
DTSTART:20211031T010000
END:STANDARD
END:VTIMEZONE
BEGIN:VEVENT
DTSTART;TZID=Europe/London:20200324T093000
DTEND;TZID=Europe/London:20200324T133000
DTSTAMP:20260423T012824
CREATED:20200108T151512Z
LAST-MODIFIED:20200319T145808Z
UID:5505-1585042200-1585056600@newwinecymru.co.uk
SUMMARY:South East Leaders' Day
DESCRIPTION:This event is now cancelled. Details about the next leaders day to follow soon.\n\n\n\n\n\nFor all leaders & their teams with speaker Sarah Richards\n\n\n\nJoin us at the South East Leaders’ Day for teaching\, ministry\, prayer\, worship and lunch!  \n\n\n\n\n\n\n\n\n\n\n\n\n\n\n\n\n\n\n\nSarah Richards\n\n\n\nSarah is Senior Leader of Cornerstone Church Swansea and is a member of the New Wine Cymru Core team.  Sarah is a leadership developer\, strategist and communicator and has a passion to see the local church becoming strong and effective in reaching its members and its community. Sarah has been involved in leadership for 34 years.
URL:https://newwinecymru.co.uk/event/south-east-leaders-day-19
LOCATION:Gaer Christian Centre\, Highfield Road\, Gaer\, Newport\, NP20 3NN\, United Kingdom
CATEGORIES:Church Leaders,Ministry Leaders,South East,Women in Leadership
ATTACH;FMTTYPE=image/jpeg:https://newwinecymru.s3.eu-west-2.amazonaws.com/wp-content/uploads/2020/01/25130329/shutterstock_207051844-scaled.jpg
END:VEVENT
END:VCALENDAR