BEGIN:VCALENDAR
VERSION:2.0
PRODID:-//New Wine Cymru - ECPv6.15.18//NONSGML v1.0//EN
CALSCALE:GREGORIAN
METHOD:PUBLISH
X-WR-CALNAME:New Wine Cymru
X-ORIGINAL-URL:https://newwinecymru.co.uk
X-WR-CALDESC:Events for New Wine Cymru
REFRESH-INTERVAL;VALUE=DURATION:PT1H
X-Robots-Tag:noindex
X-PUBLISHED-TTL:PT1H
BEGIN:VTIMEZONE
TZID:Europe/London
BEGIN:DAYLIGHT
TZOFFSETFROM:+0000
TZOFFSETTO:+0100
TZNAME:BST
DTSTART:20170326T010000
END:DAYLIGHT
BEGIN:STANDARD
TZOFFSETFROM:+0100
TZOFFSETTO:+0000
TZNAME:GMT
DTSTART:20171029T010000
END:STANDARD
BEGIN:DAYLIGHT
TZOFFSETFROM:+0000
TZOFFSETTO:+0100
TZNAME:BST
DTSTART:20180325T010000
END:DAYLIGHT
BEGIN:STANDARD
TZOFFSETFROM:+0100
TZOFFSETTO:+0000
TZNAME:GMT
DTSTART:20181028T010000
END:STANDARD
BEGIN:DAYLIGHT
TZOFFSETFROM:+0000
TZOFFSETTO:+0100
TZNAME:BST
DTSTART:20190331T010000
END:DAYLIGHT
BEGIN:STANDARD
TZOFFSETFROM:+0100
TZOFFSETTO:+0000
TZNAME:GMT
DTSTART:20191027T010000
END:STANDARD
END:VTIMEZONE
BEGIN:VEVENT
DTSTART;TZID=Europe/London:20180317T090000
DTEND;TZID=Europe/London:20180317T170000
DTSTAMP:20260424T115422
CREATED:20170522T082929Z
LAST-MODIFIED:20170522T082929Z
UID:3695-1521277200-1521306000@newwinecymru.co.uk
SUMMARY:Women Who Lead Conference 2018
DESCRIPTION:Women Who Lead day conference 2018. \nBookings are open for the Women Who Lead Conference 2018 but close at Midnight on Sat 10 March 2018 \n\n \nPowered by Eventbrite\n\nIt takes place at Venue2\, Swansea on Saturday 17 March 2018 \nWomen Who Lead 1-day conference in Swansea with speakers: \nSarah Richards\, Cath Woolridge & Katherine Hill \n \n \n \n  \n  \n  \n  \n  \nThis conference is a New Wine Cymru initiative to gather together women who are carrying responsibility in local churches\, to meet\, network\, envision and strategise together for the nation. \nThe conference includes leadership development\, teaching\, worship\, discussion\, prayer and prophecy. \nLunch & Refreshments\nPlease bring a packed lunch\, or make use of local shops and amenities.\nTea & coffee are complimentary throughout the conference. \nBabies & Children.\nWe regret that the conference is unsuitable for babies and children. There are no child care facilities available for the event so please make your own arrangements at home\, thank you. \nParking\nThere is free parking at Venue2 all day for delegates. There is additional overflow parking available once the car park is full.
URL:https://newwinecymru.co.uk/event/wwl-2018
LOCATION:venue2\, Neath Road\, Swansea\, SA6 8EF\, United Kingdom
CATEGORIES:Church Leaders,Mid Wales,North East,North West,South,South East,South West,Valleys,Women in Leadership
ATTACH;FMTTYPE=:
END:VEVENT
END:VCALENDAR