BEGIN:VCALENDAR
VERSION:2.0
PRODID:-//New Wine Cymru - ECPv6.15.18//NONSGML v1.0//EN
CALSCALE:GREGORIAN
METHOD:PUBLISH
X-ORIGINAL-URL:https://newwinecymru.co.uk
X-WR-CALDESC:Events for New Wine Cymru
REFRESH-INTERVAL;VALUE=DURATION:PT1H
X-Robots-Tag:noindex
X-PUBLISHED-TTL:PT1H
BEGIN:VTIMEZONE
TZID:Europe/London
BEGIN:DAYLIGHT
TZOFFSETFROM:+0000
TZOFFSETTO:+0100
TZNAME:BST
DTSTART:20170326T010000
END:DAYLIGHT
BEGIN:STANDARD
TZOFFSETFROM:+0100
TZOFFSETTO:+0000
TZNAME:GMT
DTSTART:20171029T010000
END:STANDARD
BEGIN:DAYLIGHT
TZOFFSETFROM:+0000
TZOFFSETTO:+0100
TZNAME:BST
DTSTART:20180325T010000
END:DAYLIGHT
BEGIN:STANDARD
TZOFFSETFROM:+0100
TZOFFSETTO:+0000
TZNAME:GMT
DTSTART:20181028T010000
END:STANDARD
BEGIN:DAYLIGHT
TZOFFSETFROM:+0000
TZOFFSETTO:+0100
TZNAME:BST
DTSTART:20190331T010000
END:DAYLIGHT
BEGIN:STANDARD
TZOFFSETFROM:+0100
TZOFFSETTO:+0000
TZNAME:GMT
DTSTART:20191027T010000
END:STANDARD
END:VTIMEZONE
BEGIN:VEVENT
DTSTART;TZID=Europe/London:20181103T100000
DTEND;TZID=Europe/London:20181103T130000
DTSTAMP:20260423T213034
CREATED:20171115T160758Z
LAST-MODIFIED:20171115T160758Z
UID:4243-1541239200-1541250000@newwinecymru.co.uk
SUMMARY:LeadUP South
DESCRIPTION:Join us in South Wales for the next LeadUP breakfast. \nLeadUP is an initiative for leaders in the 18-30 age range. \nCome and be inspired\, equipped and encouraged. \nFor further details and to sign up\, email leadup.south@newwinecymru.co.uk \nVenue: Cornerstone Church\, Penlan\, Swansea \nSpeaker:We are thrilled that Julian Richards will be our speaker
URL:https://newwinecymru.co.uk/event/leadup-south-5
LOCATION:Cornerstone Church\, 32\, Mynydd Newydd Road\, Swansea\, SA5 5AE\, United Kingdom
CATEGORIES:Church Leaders,South,South East,South West,Women in Leadership,Young Leaders
ATTACH;FMTTYPE=image/png:https://newwinecymru.s3.eu-west-2.amazonaws.com/wp-content/uploads/2017/11/25130302/Screen-Shot-2017-11-15-at-11.28.41.png
END:VEVENT
BEGIN:VEVENT
DTSTART;TZID=Europe/London:20181127T093000
DTEND;TZID=Europe/London:20181127T133000
DTSTAMP:20260423T213034
CREATED:20180709T141333Z
LAST-MODIFIED:20180709T141333Z
UID:4527-1543311000-1543325400@newwinecymru.co.uk
SUMMARY:South East Leaders' day
DESCRIPTION:You are invited to the last South East Leaders’ Day of 2018. \nPaul Francis will be our speaker \nThe day includes time for teaching\, ministry\, lunch\, prayer and fellowship. \nSuggested lunch donation\, £5. \nPlease let us know if you are able to attend by emailing: \ninfo@newwinecymru.co.uk \nThis event is open to all leaders and their leadership teams. \nVenue: Coastlands Church\, Barry\, CF62 9TN
URL:https://newwinecymru.co.uk/event/south-east-leaders-day-15
LOCATION:Coastlands Church\, Tennyson Road\, Barry\, CF62 9TN\, United Kingdom
CATEGORIES:Church Leaders,South East,Women in Leadership,Young Leaders
ATTACH;FMTTYPE=:
ORGANIZER;CN="Jez Fage":MAILTO:jezfage@newwinecymru.co.uk
END:VEVENT
END:VCALENDAR