BEGIN:VCALENDAR
VERSION:2.0
PRODID:-//New Wine Cymru - ECPv6.15.18//NONSGML v1.0//EN
CALSCALE:GREGORIAN
METHOD:PUBLISH
X-WR-CALNAME:New Wine Cymru
X-ORIGINAL-URL:https://newwinecymru.co.uk
X-WR-CALDESC:Events for New Wine Cymru
REFRESH-INTERVAL;VALUE=DURATION:PT1H
X-Robots-Tag:noindex
X-PUBLISHED-TTL:PT1H
BEGIN:VTIMEZONE
TZID:Europe/London
BEGIN:DAYLIGHT
TZOFFSETFROM:+0000
TZOFFSETTO:+0100
TZNAME:BST
DTSTART:20170326T010000
END:DAYLIGHT
BEGIN:STANDARD
TZOFFSETFROM:+0100
TZOFFSETTO:+0000
TZNAME:GMT
DTSTART:20171029T010000
END:STANDARD
BEGIN:DAYLIGHT
TZOFFSETFROM:+0000
TZOFFSETTO:+0100
TZNAME:BST
DTSTART:20180325T010000
END:DAYLIGHT
BEGIN:STANDARD
TZOFFSETFROM:+0100
TZOFFSETTO:+0000
TZNAME:GMT
DTSTART:20181028T010000
END:STANDARD
BEGIN:DAYLIGHT
TZOFFSETFROM:+0000
TZOFFSETTO:+0100
TZNAME:BST
DTSTART:20190331T010000
END:DAYLIGHT
BEGIN:STANDARD
TZOFFSETFROM:+0100
TZOFFSETTO:+0000
TZNAME:GMT
DTSTART:20191027T010000
END:STANDARD
END:VTIMEZONE
BEGIN:VEVENT
DTSTART;TZID=Europe/London:20180925T093000
DTEND;TZID=Europe/London:20180925T133000
DTSTAMP:20260424T004032
CREATED:20180709T140637Z
LAST-MODIFIED:20180709T140637Z
UID:4525-1537867800-1537882200@newwinecymru.co.uk
SUMMARY:South East Leaders' Day
DESCRIPTION:You are invited to the next south east Leaders’ Day of 2018. \nWe are pleased to welcome Clare Thompson from Woodlands Church to be our speaker \nThe day includes time for teaching\, ministry\, lunch\, prayer and fellowship. \nSuggested lunch donation\, £5. \nPlease let us know if you are able to attend by emailing: \ninfo@newwinecymru.co.uk \nThis event is open to all leaders and their leadership teams. \nVenue: Glenwood Church\, CF23 6UW
URL:https://newwinecymru.co.uk/event/south-east-leaders-day-14
LOCATION:Glenwood Church\, Circle Way West\, Cardiff\, CF23 6UW\, United Kingdom
CATEGORIES:Church Leaders,South East,Women in Leadership
ATTACH;FMTTYPE=:
ORGANIZER;CN="Jez Fage":MAILTO:jezfage@newwinecymru.co.uk
END:VEVENT
END:VCALENDAR