BEGIN:VCALENDAR
VERSION:2.0
PRODID:-//New Wine Cymru - ECPv6.15.18//NONSGML v1.0//EN
CALSCALE:GREGORIAN
METHOD:PUBLISH
X-ORIGINAL-URL:https://newwinecymru.co.uk
X-WR-CALDESC:Events for New Wine Cymru
REFRESH-INTERVAL;VALUE=DURATION:PT1H
X-Robots-Tag:noindex
X-PUBLISHED-TTL:PT1H
BEGIN:VTIMEZONE
TZID:Europe/London
BEGIN:DAYLIGHT
TZOFFSETFROM:+0000
TZOFFSETTO:+0100
TZNAME:BST
DTSTART:20170326T010000
END:DAYLIGHT
BEGIN:STANDARD
TZOFFSETFROM:+0100
TZOFFSETTO:+0000
TZNAME:GMT
DTSTART:20171029T010000
END:STANDARD
BEGIN:DAYLIGHT
TZOFFSETFROM:+0000
TZOFFSETTO:+0100
TZNAME:BST
DTSTART:20180325T010000
END:DAYLIGHT
BEGIN:STANDARD
TZOFFSETFROM:+0100
TZOFFSETTO:+0000
TZNAME:GMT
DTSTART:20181028T010000
END:STANDARD
BEGIN:DAYLIGHT
TZOFFSETFROM:+0000
TZOFFSETTO:+0100
TZNAME:BST
DTSTART:20190331T010000
END:DAYLIGHT
BEGIN:STANDARD
TZOFFSETFROM:+0100
TZOFFSETTO:+0000
TZNAME:GMT
DTSTART:20191027T010000
END:STANDARD
END:VTIMEZONE
BEGIN:VEVENT
DTSTART;TZID=Europe/London:20180126T193000
DTEND;TZID=Europe/London:20180127T193000
DTSTAMP:20260424T145445
CREATED:20170913T084336Z
LAST-MODIFIED:20251216T095455Z
UID:4067-1516995000-1517081400@newwinecymru.co.uk
SUMMARY:ONE: Worship Conference 2018
DESCRIPTION:Sorry to disappoint\, but this event has been cancelled\nA joint Worship Conference between “New Wine Cymru” and “Sound of Wales”\n\n\n\nPowered by Eventbrite\n\nNew Wine Cymru & Sound of Wales are excited to be collaborating for our January 2018 Conference “ONE”\n\nYou are invited to join us as we pursue His presence as worshippers in this land of song and creativity\n\nONE will be a powerful day and a half of worship\, prayer\, seminars\, creativity\, teaching and prophetic encounter\n\nFor all worship leaders\, vocalists\, musicians\, technicians & creatives in the church. The Whole team!\n\nNew Wine Cymru and SOW continue to be passionate about worshippers who want to see the worship of Jesus made central throughout our communities\, local church and across this nation.\n\nBookings now open!\n\nAs it is a two day event\, overnight accommodation will need to be booked for those who have travelled far.\n\nAccommodation:\n\nNicholaston House are offering a favourable rate to NWC /SOW delegates for the conference\n\n\n\n\n\n\n£39 single occupancy\n£49 double occupancy\n\nRooms would be available from 4pm on the Friday\, or after the evening conference session on the Friday.\nTo book email:  contactus@nicholastonhouse.org or telephone 01792 371317 & quote NWC Worship\n\nOther available  local hotels can be found here
URL:https://newwinecymru.co.uk/event/worship-conference-2018
LOCATION:venue2\, Neath Road\, Swansea\, SA6 8EF\, United Kingdom
CATEGORIES:Church Leaders,Mid Wales,Ministry Leaders,North East,North Wales,North West,South,South East,Worship
ATTACH;FMTTYPE=image/jpeg:https://newwinecymru.s3.eu-west-2.amazonaws.com/wp-content/uploads/2017/09/25130252/worship-event-image.jpg
ORGANIZER;CN="Helen Fage":MAILTO:info@newwinecymru.co.uk
END:VEVENT
BEGIN:VEVENT
DTSTART;TZID=Europe/London:20180130T093000
DTEND;TZID=Europe/London:20180130T130000
DTSTAMP:20260424T145446
CREATED:20171115T110915Z
LAST-MODIFIED:20171115T110915Z
UID:4146-1517304600-1517317200@newwinecymru.co.uk
SUMMARY:South East Leaders' Day
DESCRIPTION:You are invited to the first South East Leaders’ Day of 2018! \nThis will be the launch and first session of the Leadership course: Leading from Here to There by Bill Hybels\nJulian Richards introduces it here;\nWe will be following a leadership curriculum during our five regional days together. Bill Hybels has produced  ”From Here to There”\, an excellent leadership tool that covers five essential leadership skills. The course includes a video from Bill\, discussion workbook\, personal leadership style analysis & targeted learning outcomes. \nI’m excited to think that as we do this together as leaders across the nation we really will have the opportunity to simultaneously raise our game for the sake of the church and this nation.\nThe course will take place in the first part of the leadership day\, then after the break we will have worship and ministry from one of our New Wine Cymru team as usual.  Please think about who else from your team you can bring to this course and order your workbook at the New Wine Cymru office by January 12th to make sure you got everything you need in time to start the course. \nFurther details about the course can be found here \nThe day includes time for teaching\, ministry\, lunch\, prayer and fellowship. \nSuggested lunch donation\, £5. \nPlease let us know if you are able to attend by emailing: \ninfo@newwinecymru.co.uk \nThis event is open to all leaders and their leadership teams. \nVenue: Glenwood Church\, Circle Way West\, Cardiff\, CF23 6UW.
URL:https://newwinecymru.co.uk/event/south-east-leaders-day-9
LOCATION:Glenwood Church\, Circle Way West\, Cardiff\, CF23 6UW\, United Kingdom
CATEGORIES:Church Leaders,South East
ATTACH;FMTTYPE=:
END:VEVENT
END:VCALENDAR