BEGIN:VCALENDAR
VERSION:2.0
PRODID:-//New Wine Cymru - ECPv6.15.18//NONSGML v1.0//EN
CALSCALE:GREGORIAN
METHOD:PUBLISH
X-ORIGINAL-URL:https://newwinecymru.co.uk
X-WR-CALDESC:Events for New Wine Cymru
REFRESH-INTERVAL;VALUE=DURATION:PT1H
X-Robots-Tag:noindex
X-PUBLISHED-TTL:PT1H
BEGIN:VTIMEZONE
TZID:Europe/London
BEGIN:DAYLIGHT
TZOFFSETFROM:+0000
TZOFFSETTO:+0100
TZNAME:BST
DTSTART:20160327T010000
END:DAYLIGHT
BEGIN:STANDARD
TZOFFSETFROM:+0100
TZOFFSETTO:+0000
TZNAME:GMT
DTSTART:20161030T010000
END:STANDARD
BEGIN:DAYLIGHT
TZOFFSETFROM:+0000
TZOFFSETTO:+0100
TZNAME:BST
DTSTART:20170326T010000
END:DAYLIGHT
BEGIN:STANDARD
TZOFFSETFROM:+0100
TZOFFSETTO:+0000
TZNAME:GMT
DTSTART:20171029T010000
END:STANDARD
BEGIN:DAYLIGHT
TZOFFSETFROM:+0000
TZOFFSETTO:+0100
TZNAME:BST
DTSTART:20180325T010000
END:DAYLIGHT
BEGIN:STANDARD
TZOFFSETFROM:+0100
TZOFFSETTO:+0000
TZNAME:GMT
DTSTART:20181028T010000
END:STANDARD
END:VTIMEZONE
BEGIN:VEVENT
DTSTART;TZID=Europe/London:20171121T093000
DTEND;TZID=Europe/London:20171121T133000
DTSTAMP:20260424T163324
CREATED:20161026T120926Z
LAST-MODIFIED:20161026T120926Z
UID:3466-1511256600-1511271000@newwinecymru.co.uk
SUMMARY:South East Leaders' Day
DESCRIPTION:You are invited to the South East Leaders’ Day; last one for 2017! \nJulian Richards is the speaker \nThe day includes time for teaching\, ministry\, lunch\, prayer and fellowship. \nSuggested lunch donation\, £5. \nPlease let us know if you are able to attend by emailing: \ninfo@newwinecymru.co.uk \nThis event is open to all leaders and their leadership teams. \nVenue: Coastlands Church\, Barry
URL:https://newwinecymru.co.uk/event/south-east-leaders-day-11
LOCATION:Coastlands Church\, Tennyson Road\, Barry\, CF62 9TN\, United Kingdom
CATEGORIES:Church Leaders,South East
ATTACH;FMTTYPE=:
ORGANIZER;CN="Helen Fage":MAILTO:info@newwinecymru.co.uk
END:VEVENT
END:VCALENDAR