BEGIN:VCALENDAR
VERSION:2.0
PRODID:-//New Wine Cymru - ECPv6.15.18//NONSGML v1.0//EN
CALSCALE:GREGORIAN
METHOD:PUBLISH
X-WR-CALNAME:New Wine Cymru
X-ORIGINAL-URL:https://newwinecymru.co.uk
X-WR-CALDESC:Events for New Wine Cymru
REFRESH-INTERVAL;VALUE=DURATION:PT1H
X-Robots-Tag:noindex
X-PUBLISHED-TTL:PT1H
BEGIN:VTIMEZONE
TZID:Europe/London
BEGIN:DAYLIGHT
TZOFFSETFROM:+0000
TZOFFSETTO:+0100
TZNAME:BST
DTSTART:20200329T010000
END:DAYLIGHT
BEGIN:STANDARD
TZOFFSETFROM:+0100
TZOFFSETTO:+0000
TZNAME:GMT
DTSTART:20201025T010000
END:STANDARD
BEGIN:DAYLIGHT
TZOFFSETFROM:+0000
TZOFFSETTO:+0100
TZNAME:BST
DTSTART:20210328T010000
END:DAYLIGHT
BEGIN:STANDARD
TZOFFSETFROM:+0100
TZOFFSETTO:+0000
TZNAME:GMT
DTSTART:20211031T010000
END:STANDARD
BEGIN:DAYLIGHT
TZOFFSETFROM:+0000
TZOFFSETTO:+0100
TZNAME:BST
DTSTART:20220327T010000
END:DAYLIGHT
BEGIN:STANDARD
TZOFFSETFROM:+0100
TZOFFSETTO:+0000
TZNAME:GMT
DTSTART:20221030T010000
END:STANDARD
END:VTIMEZONE
BEGIN:VEVENT
DTSTART;TZID=Europe/London:20210415T103000
DTEND;TZID=Europe/London:20210415T114500
DTSTAMP:20260420T050547
CREATED:20210316T120722Z
LAST-MODIFIED:20210325T140143Z
UID:7078-1618482600-1618487100@newwinecymru.co.uk
SUMMARY:Power through weakness
DESCRIPTION:Register here\n\n\n\nThis event is free\, however\, there is an opportunity to donate if you wish. Your donation helps New Wine Cymru make such events possible. Thank you. \n\n\n\nOne booking and code for all three sessions  \n\n\n\nThree week Leadership series with speaker Gareth Lloyd. \n\n\n\nPower through  weakness\n\n\n\nSame time for three weeks in April \n\n\n\nThurs 15 April 10:30amThurs 22 April 10:30amThurs 29 April 10:30am\n\n\n\nA biblical journey of God working through the leaders weakness to bring transformation and a kingdom flourishing community. \n\n\n\nTaking on Paul’s exhortation to “imitate me as I imitate Christ” as we lead our church communities in this way. \n\n\n\nRegister here\n\n\n\n\n\n\n\n\n\n\n\nGareth Lloyd\n\n\n\nGareth Lloyd leads Rhiwbina Baptist Church in Cardiff and has been involved with Church Planting and leading for many years.  \n\n\n\nHe is part of the NWC East Valleys Leadership team
URL:https://newwinecymru.co.uk/event/power
CATEGORIES:Brecon,Church Leaders,East Valleys,Mid Wales,Ministry Leaders,North East,North Wales,North West,South,South East,South Wales,South West,West Valleys,Women in Leadership,Worship,Young Leaders
ATTACH;FMTTYPE=image/png:https://newwinecymru.s3.eu-west-2.amazonaws.com/wp-content/uploads/2021/03/31102409/Screenshot-2021-03-24-at-10.26.14.png
END:VEVENT
END:VCALENDAR