BEGIN:VCALENDAR
VERSION:2.0
PRODID:-//New Wine Cymru - ECPv6.15.18//NONSGML v1.0//EN
CALSCALE:GREGORIAN
METHOD:PUBLISH
X-ORIGINAL-URL:https://newwinecymru.co.uk
X-WR-CALDESC:Events for New Wine Cymru
REFRESH-INTERVAL;VALUE=DURATION:PT1H
X-Robots-Tag:noindex
X-PUBLISHED-TTL:PT1H
BEGIN:VTIMEZONE
TZID:Europe/London
BEGIN:DAYLIGHT
TZOFFSETFROM:+0000
TZOFFSETTO:+0100
TZNAME:BST
DTSTART:20200329T010000
END:DAYLIGHT
BEGIN:STANDARD
TZOFFSETFROM:+0100
TZOFFSETTO:+0000
TZNAME:GMT
DTSTART:20201025T010000
END:STANDARD
BEGIN:DAYLIGHT
TZOFFSETFROM:+0000
TZOFFSETTO:+0100
TZNAME:BST
DTSTART:20210328T010000
END:DAYLIGHT
BEGIN:STANDARD
TZOFFSETFROM:+0100
TZOFFSETTO:+0000
TZNAME:GMT
DTSTART:20211031T010000
END:STANDARD
BEGIN:DAYLIGHT
TZOFFSETFROM:+0000
TZOFFSETTO:+0100
TZNAME:BST
DTSTART:20220327T010000
END:DAYLIGHT
BEGIN:STANDARD
TZOFFSETFROM:+0100
TZOFFSETTO:+0000
TZNAME:GMT
DTSTART:20221030T010000
END:STANDARD
END:VTIMEZONE
BEGIN:VEVENT
DTSTART;TZID=Europe/London:20210412T190000
DTEND;TZID=Europe/London:20210412T203000
DTSTAMP:20260420T082631
CREATED:20210317T123309Z
LAST-MODIFIED:20210413T085641Z
UID:7093-1618254000-1618259400@newwinecymru.co.uk
SUMMARY:Prophecy
DESCRIPTION:A Three-session course equipping Christians to use the Gift of Prophecy\n\n\n\nFor three consecutive Monday evenings starting on; \n\n\n\n\n\nRegister here\n\n\n\nThere is a £10 course fee payable\, (and minimal booking fee) upon registration. \n\n\n\nAND a concession ticket of £5 available for students and those un-waged.\n\n\n\nIn his letter to the Corinthian churches\, the apostle Paul commands Christians to – “Follow the way of love\, eagerly desire the gifts of the Holy Spirit\, and especially that you may prophesy” \n\n\n\nThis three-session online course will explore\, how to wisely exercise the gift of prophecy within the context of the local church and mission.  \n\n\n\nOne booking and code for all three sessions.In this three-session series\, Bruce Collins will ––            Explain what the gift of prophecy is and how it differs from a prophetic ministry\, or a prophetic office–            Explain why it is so important and valuable for the church’s ministry\, and especially in evangelism (this session will also include modelling of prophetic ministry)–            Cover values that should govern the practice of prophecy–            Explain why any born-again\, Spirit-filled Christian can use the gift of prophecy–            Show different ways in which we can receive prophetic revelation–            Provide an opportunity for everyone on the course to exercise and receive prophetic giftsCourse notes will be provided\, and Bruce’s book Prophesy! – which covers the subject in more detail – will also be available for course members to purchase for £5.00 plus p&p.Bruce has used the course to release literally thousands of Christians in this wonderful gift in the UK and many other countries around the world. \n\n\n\nSession Schedule \n\n\n\nMon 12 April 7pmMon 19 April 7pmMon 26 April 7pm\n\n\n\nThere is a £10 course fee payable\, upon registration. \n\n\n\nRegister here\n\n\n\n\n\n\n\n\n\n\n\nBruce Collins
URL:https://newwinecymru.co.uk/event/prophecy
CATEGORIES:Brecon,Church Leaders,East Valleys,Healing,Mid Wales,Ministry Leaders,North East,North Wales,North West,South,South East,South Wales,South West,Valleys,West Valleys,Women in Leadership,Worship,Young Leaders
ATTACH;FMTTYPE=image/png:https://newwinecymru.s3.eu-west-2.amazonaws.com/wp-content/uploads/2021/03/31102412/Prophecy-real.png
END:VEVENT
END:VCALENDAR