BEGIN:VCALENDAR
VERSION:2.0
PRODID:-//New Wine Cymru - ECPv6.15.18//NONSGML v1.0//EN
CALSCALE:GREGORIAN
METHOD:PUBLISH
X-ORIGINAL-URL:https://newwinecymru.co.uk
X-WR-CALDESC:Events for New Wine Cymru
REFRESH-INTERVAL;VALUE=DURATION:PT1H
X-Robots-Tag:noindex
X-PUBLISHED-TTL:PT1H
BEGIN:VTIMEZONE
TZID:Europe/London
BEGIN:DAYLIGHT
TZOFFSETFROM:+0000
TZOFFSETTO:+0100
TZNAME:BST
DTSTART:20200329T010000
END:DAYLIGHT
BEGIN:STANDARD
TZOFFSETFROM:+0100
TZOFFSETTO:+0000
TZNAME:GMT
DTSTART:20201025T010000
END:STANDARD
BEGIN:DAYLIGHT
TZOFFSETFROM:+0000
TZOFFSETTO:+0100
TZNAME:BST
DTSTART:20210328T010000
END:DAYLIGHT
BEGIN:STANDARD
TZOFFSETFROM:+0100
TZOFFSETTO:+0000
TZNAME:GMT
DTSTART:20211031T010000
END:STANDARD
BEGIN:DAYLIGHT
TZOFFSETFROM:+0000
TZOFFSETTO:+0100
TZNAME:BST
DTSTART:20220327T010000
END:DAYLIGHT
BEGIN:STANDARD
TZOFFSETFROM:+0100
TZOFFSETTO:+0000
TZNAME:GMT
DTSTART:20221030T010000
END:STANDARD
END:VTIMEZONE
BEGIN:VEVENT
DTSTART;TZID=Europe/London:20210307T190000
DTEND;TZID=Europe/London:20210307T200000
DTSTAMP:20260420T064018
CREATED:20210210T162410Z
LAST-MODIFIED:20210306T094115Z
UID:6874-1615143600-1615147200@newwinecymru.co.uk
SUMMARY:A Call to Prayer
DESCRIPTION:New Wine Cymru is hosting a Call to Prayer! \n\n\n\nJoin us by booking online here\n\n\n\nSunday night for one hour\, a call for everyone to join together\n\n\n\nTogether for Wales \n\n\n\nEveryone welcome to join us on zoom for one hour to pray together \n\n\n\n\n\n\n\nbook in here to join us
URL:https://newwinecymru.co.uk/event/a-call-to-prayer
CATEGORIES:Church Leaders,East Valleys,Mid Wales,North East,North Wales,North West,South,South East,South Wales,South West,West Valleys,Women in Leadership,Worship,Young Leaders
ATTACH;FMTTYPE=image/jpeg:https://newwinecymru.s3.eu-west-2.amazonaws.com/wp-content/uploads/2021/03/31102432/Sold-Out.jpg
END:VEVENT
END:VCALENDAR