BEGIN:VCALENDAR
VERSION:2.0
PRODID:-//New Wine Cymru - ECPv6.15.18//NONSGML v1.0//EN
CALSCALE:GREGORIAN
METHOD:PUBLISH
X-WR-CALNAME:New Wine Cymru
X-ORIGINAL-URL:https://newwinecymru.co.uk
X-WR-CALDESC:Events for New Wine Cymru
REFRESH-INTERVAL;VALUE=DURATION:PT1H
X-Robots-Tag:noindex
X-PUBLISHED-TTL:PT1H
BEGIN:VTIMEZONE
TZID:Europe/London
BEGIN:DAYLIGHT
TZOFFSETFROM:+0000
TZOFFSETTO:+0100
TZNAME:BST
DTSTART:20190331T010000
END:DAYLIGHT
BEGIN:STANDARD
TZOFFSETFROM:+0100
TZOFFSETTO:+0000
TZNAME:GMT
DTSTART:20191027T010000
END:STANDARD
BEGIN:DAYLIGHT
TZOFFSETFROM:+0000
TZOFFSETTO:+0100
TZNAME:BST
DTSTART:20200329T010000
END:DAYLIGHT
BEGIN:STANDARD
TZOFFSETFROM:+0100
TZOFFSETTO:+0000
TZNAME:GMT
DTSTART:20201025T010000
END:STANDARD
BEGIN:DAYLIGHT
TZOFFSETFROM:+0000
TZOFFSETTO:+0100
TZNAME:BST
DTSTART:20210328T010000
END:DAYLIGHT
BEGIN:STANDARD
TZOFFSETFROM:+0100
TZOFFSETTO:+0000
TZNAME:GMT
DTSTART:20211031T010000
END:STANDARD
END:VTIMEZONE
BEGIN:VEVENT
DTSTART;TZID=Europe/London:20201203T103000
DTEND;TZID=Europe/London:20201203T114500
DTSTAMP:20260420T112507
CREATED:20201022T112026Z
LAST-MODIFIED:20210119T123355Z
UID:6602-1606991400-1606995900@newwinecymru.co.uk
SUMMARY:Leaders' Course (2 weeks)
DESCRIPTION:Character: Leadership\n\n\n\nStudies in character that will provoke us to be outstanding men and women of God. \n\n\n\nA 2 week course led by Andrew Davies\n\n\n\nSame time every Thursday morning for 2 weeks at the beginning of December. \n\n\n\nDuring the 2 sessions\, Andrew will be teaching on Character \, unpacking in relation to our Leadership;\n\n\n\nCharacter as an act of WorshipCharacter as Mission\, & you are not alone!\n\n\n\nThurs 3 Dec 10:30amThurs 10 Dec 10:30am\n\n\n\nThis course will be accessed on Zoom and will run for two consecutive weeks. \n\n\n\nTo book in for both sessions please follow the link here; you will need to book in for each session separately. \n\n\n\nRegister Here\n\n\n\n\n\n\n\n\n\n\n\n \n\n\n\nAndrew Davies\n\n\n\nAndrew\, alongside his wife Liz\, leads Hope Church\, Pontypridd and heads up the West Valleys region for New Wine Cymru
URL:https://newwinecymru.co.uk/event/leaders-course-2-weeks
CATEGORIES:Church Leaders,East Valleys,Mid Wales,Ministry Leaders,North East,North Wales,North West,South,South East,South Wales,South West,Valleys,West Valleys,Women in Leadership,Worship,Young Leaders
ATTACH;FMTTYPE=image/jpeg:https://newwinecymru.s3.eu-west-2.amazonaws.com/wp-content/uploads/2020/10/25130111/barthelemy-de-mazenod-uogMShrLlhU-unsplash-scaled.jpg
END:VEVENT
END:VCALENDAR