BEGIN:VCALENDAR
VERSION:2.0
PRODID:-//New Wine Cymru - ECPv6.15.18//NONSGML v1.0//EN
CALSCALE:GREGORIAN
METHOD:PUBLISH
X-ORIGINAL-URL:https://newwinecymru.co.uk
X-WR-CALDESC:Events for New Wine Cymru
REFRESH-INTERVAL;VALUE=DURATION:PT1H
X-Robots-Tag:noindex
X-PUBLISHED-TTL:PT1H
BEGIN:VTIMEZONE
TZID:Europe/London
BEGIN:DAYLIGHT
TZOFFSETFROM:+0000
TZOFFSETTO:+0100
TZNAME:BST
DTSTART:20180325T010000
END:DAYLIGHT
BEGIN:STANDARD
TZOFFSETFROM:+0100
TZOFFSETTO:+0000
TZNAME:GMT
DTSTART:20181028T010000
END:STANDARD
BEGIN:DAYLIGHT
TZOFFSETFROM:+0000
TZOFFSETTO:+0100
TZNAME:BST
DTSTART:20190331T010000
END:DAYLIGHT
BEGIN:STANDARD
TZOFFSETFROM:+0100
TZOFFSETTO:+0000
TZNAME:GMT
DTSTART:20191027T010000
END:STANDARD
BEGIN:DAYLIGHT
TZOFFSETFROM:+0000
TZOFFSETTO:+0100
TZNAME:BST
DTSTART:20200329T010000
END:DAYLIGHT
BEGIN:STANDARD
TZOFFSETFROM:+0100
TZOFFSETTO:+0000
TZNAME:GMT
DTSTART:20201025T010000
END:STANDARD
END:VTIMEZONE
BEGIN:VEVENT
DTSTART;TZID=Europe/London:20190301T193000
DTEND;TZID=Europe/London:20190301T210000
DTSTAMP:20260422T091835
CREATED:20171204T121732Z
LAST-MODIFIED:20171204T121732Z
UID:4280-1551468600-1551474000@newwinecymru.co.uk
SUMMARY:St David's Day: Pray for Wales 2019
DESCRIPTION:National Pray for Wales\nOn St David’s Day 2019\, churches across the country are invited to be praying together for Wales. \nIn each New Wine Cymru region there will be a celebration prayer event\, 7:30-9pm and churches are invited to gather together in their regions to pray. \nHow exciting to see churches across the regions meeting on the same date and at the same time to pray for our nation! \nNorth Wales:\nNorth Coast Church\, Towyn \nMid Wales\nSt Paul’s Methodist Centre\, Aberystwyth \nWest Valleys\nSt Catherine’s Church\, Pontypridd \nEast Valleys\nSt Catherine’s Church\, Pontypridd \nSouth East Wales\nSt Catherine’s Church\, Pontypridd \nSouth Wales\nMyrtle House\, Llanelli \nSouth West Wales\nEmmanuel Christian Centre\, Haverfordwest \nFull details of each prayer location available here \nAll churches\, leaders and their congregations welcome to join in this nationwide event!
URL:https://newwinecymru.co.uk/event/st-davids-day-pray-wales19
LOCATION:WALES\, Wales\, Wales\, Wales
CATEGORIES:Church Leaders,East Valleys,Mid Wales,North Wales,South,South East,South West,Valleys,West Valleys
ATTACH;FMTTYPE=image/png:https://newwinecymru.s3.eu-west-2.amazonaws.com/wp-content/uploads/2017/12/25131630/Advert-2019.png
END:VEVENT
END:VCALENDAR