BEGIN:VCALENDAR
VERSION:2.0
PRODID:-//New Wine Cymru - ECPv6.15.18//NONSGML v1.0//EN
CALSCALE:GREGORIAN
METHOD:PUBLISH
X-WR-CALNAME:New Wine Cymru
X-ORIGINAL-URL:https://newwinecymru.co.uk
X-WR-CALDESC:Events for New Wine Cymru
REFRESH-INTERVAL;VALUE=DURATION:PT1H
X-Robots-Tag:noindex
X-PUBLISHED-TTL:PT1H
BEGIN:VTIMEZONE
TZID:Europe/London
BEGIN:DAYLIGHT
TZOFFSETFROM:+0000
TZOFFSETTO:+0100
TZNAME:BST
DTSTART:20170326T010000
END:DAYLIGHT
BEGIN:STANDARD
TZOFFSETFROM:+0100
TZOFFSETTO:+0000
TZNAME:GMT
DTSTART:20171029T010000
END:STANDARD
BEGIN:DAYLIGHT
TZOFFSETFROM:+0000
TZOFFSETTO:+0100
TZNAME:BST
DTSTART:20180325T010000
END:DAYLIGHT
BEGIN:STANDARD
TZOFFSETFROM:+0100
TZOFFSETTO:+0000
TZNAME:GMT
DTSTART:20181028T010000
END:STANDARD
BEGIN:DAYLIGHT
TZOFFSETFROM:+0000
TZOFFSETTO:+0100
TZNAME:BST
DTSTART:20190331T010000
END:DAYLIGHT
BEGIN:STANDARD
TZOFFSETFROM:+0100
TZOFFSETTO:+0000
TZNAME:GMT
DTSTART:20191027T010000
END:STANDARD
END:VTIMEZONE
BEGIN:VEVENT
DTSTART;TZID=Europe/London:20180714T100000
DTEND;TZID=Europe/London:20180714T123000
DTSTAMP:20260423T031319
CREATED:20180108T091203Z
LAST-MODIFIED:20180108T091203Z
UID:4213-1531562400-1531571400@newwinecymru.co.uk
SUMMARY:LeadUP July Breakfasts
DESCRIPTION:LeadUP Breakfasts 2018\nWe are so excited to be hosting 2 LeadUP Breakfasts on July 14th in both North and South Wales.\nDue to some unforeseen circumstances the LeadUP Conference has been changed from a day conference to a morning (bigger and better😉) LeadUP breakfast!!\nWe invite you to join us for an opportunity to gather together as leaders in our 20s and 30s to spend time together and for great worship\, teaching and of course a great breakfast!\nTickets: only £5 voluntary contribution on the day.\nPlease email\, yes book me in!\nBook here for South Breakfast:\nleadup.south@newwinecymru.co.uk\nBook here for North Breakfast:\nleadup.north@newwinecymru.co.uk\nSee you July 14th!
URL:https://newwinecymru.co.uk/event/leadup-conference-3
LOCATION:North & South Wales\, Towyn & Swansea\, Wales\, United Kingdom
CATEGORIES:Church Leaders,Featured,Mid Wales,Ministry Leaders,North East,North Wales,North West,South,South East,South West,Valleys,Women in Leadership,Worship,Young Leaders
ATTACH;FMTTYPE=image/jpeg:https://newwinecymru.s3.eu-west-2.amazonaws.com/wp-content/uploads/2018/01/25130140/Lead-Up-2018-July-Breakfast.jpeg
END:VEVENT
END:VCALENDAR