BEGIN:VCALENDAR
VERSION:2.0
PRODID:-//New Wine Cymru - ECPv6.15.18//NONSGML v1.0//EN
CALSCALE:GREGORIAN
METHOD:PUBLISH
X-WR-CALNAME:New Wine Cymru
X-ORIGINAL-URL:https://newwinecymru.co.uk
X-WR-CALDESC:Events for New Wine Cymru
REFRESH-INTERVAL;VALUE=DURATION:PT1H
X-Robots-Tag:noindex
X-PUBLISHED-TTL:PT1H
BEGIN:VTIMEZONE
TZID:Europe/London
BEGIN:DAYLIGHT
TZOFFSETFROM:+0000
TZOFFSETTO:+0100
TZNAME:BST
DTSTART:20160327T010000
END:DAYLIGHT
BEGIN:STANDARD
TZOFFSETFROM:+0100
TZOFFSETTO:+0000
TZNAME:GMT
DTSTART:20161030T010000
END:STANDARD
BEGIN:DAYLIGHT
TZOFFSETFROM:+0000
TZOFFSETTO:+0100
TZNAME:BST
DTSTART:20170326T010000
END:DAYLIGHT
BEGIN:STANDARD
TZOFFSETFROM:+0100
TZOFFSETTO:+0000
TZNAME:GMT
DTSTART:20171029T010000
END:STANDARD
BEGIN:DAYLIGHT
TZOFFSETFROM:+0000
TZOFFSETTO:+0100
TZNAME:BST
DTSTART:20180325T010000
END:DAYLIGHT
BEGIN:STANDARD
TZOFFSETFROM:+0100
TZOFFSETTO:+0000
TZNAME:GMT
DTSTART:20181028T010000
END:STANDARD
END:VTIMEZONE
BEGIN:VEVENT
DTSTART;TZID=Europe/London:20170930T100000
DTEND;TZID=Europe/London:20170930T130000
DTSTAMP:20260423T184007
CREATED:20170817T124809Z
LAST-MODIFIED:20170817T124809Z
UID:4025-1506765600-1506776400@newwinecymru.co.uk
SUMMARY:LeadUP North
DESCRIPTION:You are invited to the next LeadUP North day \nSian Rees is the speaker \nA new initiative rolling out across the regions following on from the success of our first LeadUP conference. \nLeadUP is for leaders in the 18-30’s age range. It is a breakfast meeting \nCome and be inspired\, equipped and encouraged to be a 360 degree leader! \nFor further details\, email \nleadup.north@newwinecymru.co.uk
URL:https://newwinecymru.co.uk/event/leadup-north-2
LOCATION:North Coast Church\, Gors Road\, Towyn\, LL22 9NR\, United Kingdom
CATEGORIES:North East,North Wales,North West,Young Leaders
ATTACH;FMTTYPE=image/png:https://newwinecymru.s3.eu-west-2.amazonaws.com/wp-content/uploads/2017/08/25130408/Screen-Shot-2017-08-17-at-14.45.52.png
END:VEVENT
END:VCALENDAR