BEGIN:VCALENDAR
VERSION:2.0
PRODID:-//New Wine Cymru - ECPv6.15.18//NONSGML v1.0//EN
CALSCALE:GREGORIAN
METHOD:PUBLISH
X-ORIGINAL-URL:https://newwinecymru.co.uk
X-WR-CALDESC:Events for New Wine Cymru
REFRESH-INTERVAL;VALUE=DURATION:PT1H
X-Robots-Tag:noindex
X-PUBLISHED-TTL:PT1H
BEGIN:VTIMEZONE
TZID:Europe/London
BEGIN:DAYLIGHT
TZOFFSETFROM:+0000
TZOFFSETTO:+0100
TZNAME:BST
DTSTART:20160327T010000
END:DAYLIGHT
BEGIN:STANDARD
TZOFFSETFROM:+0100
TZOFFSETTO:+0000
TZNAME:GMT
DTSTART:20161030T010000
END:STANDARD
BEGIN:DAYLIGHT
TZOFFSETFROM:+0000
TZOFFSETTO:+0100
TZNAME:BST
DTSTART:20170326T010000
END:DAYLIGHT
BEGIN:STANDARD
TZOFFSETFROM:+0100
TZOFFSETTO:+0000
TZNAME:GMT
DTSTART:20171029T010000
END:STANDARD
BEGIN:DAYLIGHT
TZOFFSETFROM:+0000
TZOFFSETTO:+0100
TZNAME:BST
DTSTART:20180325T010000
END:DAYLIGHT
BEGIN:STANDARD
TZOFFSETFROM:+0100
TZOFFSETTO:+0000
TZNAME:GMT
DTSTART:20181028T010000
END:STANDARD
END:VTIMEZONE
BEGIN:VEVENT
DTSTART;TZID=Europe/London:20170706T000000
DTEND;TZID=Europe/London:20170715T235959
DTSTAMP:20260423T213059
CREATED:20170522T102526Z
LAST-MODIFIED:20170522T102526Z
UID:3865-1499299200-1500163199@newwinecymru.co.uk
SUMMARY:Mission to Wales
DESCRIPTION:Mission to Wales is happening across the nation from \nThurs 6 – Sat 15 July 2017\nIn most of the regions in Wales there will be missions happening in various locations \nChurches coming together to tell people in their cities and towns about Jesus and the awesome Plan Hew has for their lives. \nFor full  details click here \n 
URL:https://newwinecymru.co.uk/event/mission-to-wales
LOCATION:WALES\, Wales\, Wales\, Wales
CATEGORIES:Church Leaders,Featured,Mid Wales,North Wales,South,South East,South West,Valleys,Young Leaders
ATTACH;FMTTYPE=:
END:VEVENT
END:VCALENDAR