BEGIN:VCALENDAR
VERSION:2.0
PRODID:-//New Wine Cymru - ECPv6.15.18//NONSGML v1.0//EN
CALSCALE:GREGORIAN
METHOD:PUBLISH
X-ORIGINAL-URL:https://newwinecymru.co.uk
X-WR-CALDESC:Events for New Wine Cymru
REFRESH-INTERVAL;VALUE=DURATION:PT1H
X-Robots-Tag:noindex
X-PUBLISHED-TTL:PT1H
BEGIN:VTIMEZONE
TZID:Europe/London
BEGIN:DAYLIGHT
TZOFFSETFROM:+0000
TZOFFSETTO:+0100
TZNAME:BST
DTSTART:20160327T010000
END:DAYLIGHT
BEGIN:STANDARD
TZOFFSETFROM:+0100
TZOFFSETTO:+0000
TZNAME:GMT
DTSTART:20161030T010000
END:STANDARD
BEGIN:DAYLIGHT
TZOFFSETFROM:+0000
TZOFFSETTO:+0100
TZNAME:BST
DTSTART:20170326T010000
END:DAYLIGHT
BEGIN:STANDARD
TZOFFSETFROM:+0100
TZOFFSETTO:+0000
TZNAME:GMT
DTSTART:20171029T010000
END:STANDARD
BEGIN:DAYLIGHT
TZOFFSETFROM:+0000
TZOFFSETTO:+0100
TZNAME:BST
DTSTART:20180325T010000
END:DAYLIGHT
BEGIN:STANDARD
TZOFFSETFROM:+0100
TZOFFSETTO:+0000
TZNAME:GMT
DTSTART:20181028T010000
END:STANDARD
END:VTIMEZONE
BEGIN:VEVENT
DTSTART;TZID=Europe/London:20170301T193000
DTEND;TZID=Europe/London:20170301T210000
DTSTAMP:20260424T035917
CREATED:20170104T133258Z
LAST-MODIFIED:20170104T133258Z
UID:3559-1488396600-1488402000@newwinecymru.co.uk
SUMMARY:Pray for Wales 2017
DESCRIPTION:On St David’s Day 2017\, churches across the country are invited to be praying together for Wales. \nIn each New Wine Cymru region there will be a celebration prayer event\, 7:30-9pm and churches are invited to gather together in their regions to pray. \nHow exciting to see churches across the regions meeting on the same date and at the same time to pray for our nation! \nLets build on what was started at last year’s event. \nDuring the evening all the regions will link up to pray together as one\, for the nation! \nDetails for each prayer location listed below. For full details click here \nNorth Wales:\nSure Hope Church\, Colwyn Bay \nMid Wales\nSt Annes Church\, Aberystwyth \nValleys \nBethel Baptist Church\, Pontyclun \nSouth East Wales \nRhiwbina Baptist Church\, Cardiff \nSouth Wales\nCity Church\, Swansea \nSouth West Wales\nBethesda Baptist Church\, Haverfordwest. \nAll churches welcome to join in this nationwide event!
URL:https://newwinecymru.co.uk/event/prayer-wales-2017
LOCATION:Multiple Locations\, Wales
CATEGORIES:Church Leaders,Mid Wales,North East,North Wales,North West,South,South East,South West,Valleys
ATTACH;FMTTYPE=:
ORGANIZER;CN="Jez Fage":MAILTO:jezfage@newwinecymru.co.uk
END:VEVENT
END:VCALENDAR