BEGIN:VCALENDAR
VERSION:2.0
PRODID:-//New Wine Cymru - ECPv6.15.18//NONSGML v1.0//EN
CALSCALE:GREGORIAN
METHOD:PUBLISH
X-ORIGINAL-URL:https://newwinecymru.co.uk
X-WR-CALDESC:Events for New Wine Cymru
REFRESH-INTERVAL;VALUE=DURATION:PT1H
X-Robots-Tag:noindex
X-PUBLISHED-TTL:PT1H
BEGIN:VTIMEZONE
TZID:Europe/London
BEGIN:DAYLIGHT
TZOFFSETFROM:+0000
TZOFFSETTO:+0100
TZNAME:BST
DTSTART:20190331T010000
END:DAYLIGHT
BEGIN:STANDARD
TZOFFSETFROM:+0100
TZOFFSETTO:+0000
TZNAME:GMT
DTSTART:20191027T010000
END:STANDARD
BEGIN:DAYLIGHT
TZOFFSETFROM:+0000
TZOFFSETTO:+0100
TZNAME:BST
DTSTART:20200329T010000
END:DAYLIGHT
BEGIN:STANDARD
TZOFFSETFROM:+0100
TZOFFSETTO:+0000
TZNAME:GMT
DTSTART:20201025T010000
END:STANDARD
BEGIN:DAYLIGHT
TZOFFSETFROM:+0000
TZOFFSETTO:+0100
TZNAME:BST
DTSTART:20210328T010000
END:DAYLIGHT
BEGIN:STANDARD
TZOFFSETFROM:+0100
TZOFFSETTO:+0000
TZNAME:GMT
DTSTART:20211031T010000
END:STANDARD
END:VTIMEZONE
BEGIN:VEVENT
DTSTART;TZID=Europe/London:20201119T103000
DTEND;TZID=Europe/London:20201119T114500
DTSTAMP:20260420T144215
CREATED:20201009T143326Z
LAST-MODIFIED:20201113T122149Z
UID:6574-1605781800-1605786300@newwinecymru.co.uk
SUMMARY:Leaders (3 week) Series
DESCRIPTION:Leadership & Grace\n\n\n\nA 3 week course led by Rob Jones \n\n\n\nSame time every Thursday morning for 3 weeks in November. \n\n\n\nDuring the 3 sessions\, Rob will be teaching on Leadership & Grace\, unpacking;\n\n\n\nHow important that we lead from a disposition of graceHow we can lead from the Spirit of Grace that is transformationalCreating Cultures of Grace in our Churches\n\n\n\nThurs 5 Nov 10:30amThurs 12 Nov 10:30amThurs 19 Nov 10:30am\n\n\n\nThis course will be accessed on Zoom and will run for three consecutive weeks.   \n\n\n\nTo book in for all these sessions please follow the link here; you will need to book in for each session separately. \n\n\n\nRegister Here\n\n\n\n\n\n\n\n\n\n\n\n \n\n\n\nRob Jones\n\n\n\nChair of New Wine Cymru & Part of New Wine Cymru Core Leadership  Team.
URL:https://newwinecymru.co.uk/event/leaders-course
CATEGORIES:Church Leaders,East Valleys,Mid Wales,North East,North Wales,North West,South,South East,South Wales,South West,West Valleys,Women in Leadership,Worship,Young Leaders
ATTACH;FMTTYPE=image/jpeg:https://newwinecymru.s3.eu-west-2.amazonaws.com/wp-content/uploads/2020/10/25130115/omar-prestwich-0TQa-Ur6Zqg-unsplash-scaled.jpg
END:VEVENT
BEGIN:VEVENT
DTSTART;TZID=Europe/London:20201126T100000
DTEND;TZID=Europe/London:20201126T120000
DTSTAMP:20260420T144215
CREATED:20200929T134342Z
LAST-MODIFIED:20201013T130712Z
UID:6535-1606384800-1606392000@newwinecymru.co.uk
SUMMARY:North & Mid Wales Leaders' Day
DESCRIPTION:For all leaders & their teams with speaker Andrew Davies \n\n\n\nThis event will be on Zoom and the code for this can be found by emailing the office at: info@newwinecymru.co.uk \n\n\n\n\n\n\n\n\n\n\n\n \n\n\n\nAndrew Davies
URL:https://newwinecymru.co.uk/event/north-east-leaders-day-8
CATEGORIES:Church Leaders,Mid Wales,North East,North Wales,North West,Women in Leadership,Worship,Young Leaders
ATTACH;FMTTYPE=image/png:https://newwinecymru.s3.eu-west-2.amazonaws.com/wp-content/uploads/2020/01/25130327/Screenshot-2020-01-22-at-15.33.42.png
END:VEVENT
END:VCALENDAR