BEGIN:VCALENDAR
VERSION:2.0
PRODID:-//New Wine Cymru - ECPv6.15.18//NONSGML v1.0//EN
CALSCALE:GREGORIAN
METHOD:PUBLISH
X-WR-CALNAME:New Wine Cymru
X-ORIGINAL-URL:https://newwinecymru.co.uk
X-WR-CALDESC:Events for New Wine Cymru
REFRESH-INTERVAL;VALUE=DURATION:PT1H
X-Robots-Tag:noindex
X-PUBLISHED-TTL:PT1H
BEGIN:VTIMEZONE
TZID:Europe/London
BEGIN:DAYLIGHT
TZOFFSETFROM:+0000
TZOFFSETTO:+0100
TZNAME:BST
DTSTART:20180325T010000
END:DAYLIGHT
BEGIN:STANDARD
TZOFFSETFROM:+0100
TZOFFSETTO:+0000
TZNAME:GMT
DTSTART:20181028T010000
END:STANDARD
BEGIN:DAYLIGHT
TZOFFSETFROM:+0000
TZOFFSETTO:+0100
TZNAME:BST
DTSTART:20190331T010000
END:DAYLIGHT
BEGIN:STANDARD
TZOFFSETFROM:+0100
TZOFFSETTO:+0000
TZNAME:GMT
DTSTART:20191027T010000
END:STANDARD
BEGIN:DAYLIGHT
TZOFFSETFROM:+0000
TZOFFSETTO:+0100
TZNAME:BST
DTSTART:20200329T010000
END:DAYLIGHT
BEGIN:STANDARD
TZOFFSETFROM:+0100
TZOFFSETTO:+0000
TZNAME:GMT
DTSTART:20201025T010000
END:STANDARD
END:VTIMEZONE
BEGIN:VEVENT
DTSTART;TZID=Europe/London:20190607T080000
DTEND;TZID=Europe/London:20190608T153000
DTSTAMP:20260422T023200
CREATED:20180612T112254Z
LAST-MODIFIED:20180612T112254Z
UID:4476-1559894400-1560007800@newwinecymru.co.uk
SUMMARY:NWC Leaders' Conference 2019
DESCRIPTION:Join us for the New Wine Cymru Leaders Conference 2019\nYou are invited to the New Wine Cymru Leaders’ Conference 2019: The Prophetic Leader \nHeld at Venue 2\, Swansea\, Friday 7 June – Saturday 8 June 2019\n\n﻿ \n\nThis Annual Gathering of Leaders from across Wales is a highlight of the year and an event not to be missed! \nTickets are now on sale at the Early Bird rate and we encourage you to book on with your Leadership teams \nDetails about the event:\nThe conference seeks to encourage and equip God’s Leaders in Wales to grow their prophetic Leaders and cultivate a prophetic church. \nSpecial deal:\nAll Senior leaders who book in can now bring a leader with them (in their 20’s)  for free. To claim your space for our LeadUP (aged in their 20’s) leader when you book\, please call 01792 516335 \nSpeakers:\n \n \nWe are delighted to welcome both Pete Greig and Dr Clem Ferris as guest speakers alongside the NWC team \nClem is a long time friend of NWC and speaks with a powerful prophetic anointing. Pete leads and pioneered the 24-7 Prayer movement which has reached more than half the nations on earth. \nKey delegate info: \nLunch & Refreshments \nFree refreshments will be served during the day. Lunch is not included in the price. Delegates can either bring a packed lunch or make use of local shops and amenities. \nParking\nThere is free parking at Venue2 all day for delegates. There is additional overflow parking available once the car park is full. \nBabies & Children\nWe regret that this conference is unsuitable for babies and children. There are no child care facilities available for this event so please make your own arrangements. Thank you.
URL:https://newwinecymru.co.uk/event/nwc-lc-2019
LOCATION:venue2\, Neath Road\, Swansea\, SA6 8EF\, United Kingdom
CATEGORIES:Brecon,Church Leaders,Featured,Mid Wales,Ministry Leaders,North East,North Wales,North West,South,South East,South West,Valleys
ATTACH;FMTTYPE=image/png:https://newwinecymru.s3.eu-west-2.amazonaws.com/wp-content/uploads/2018/06/25131615/new-web-pic.png
ORGANIZER;CN="Jez Fage":MAILTO:jezfage@newwinecymru.co.uk
END:VEVENT
END:VCALENDAR