BEGIN:VCALENDAR
VERSION:2.0
PRODID:-//New Wine Cymru - ECPv6.15.18//NONSGML v1.0//EN
CALSCALE:GREGORIAN
METHOD:PUBLISH
X-WR-CALNAME:New Wine Cymru
X-ORIGINAL-URL:https://newwinecymru.co.uk
X-WR-CALDESC:Events for New Wine Cymru
REFRESH-INTERVAL;VALUE=DURATION:PT1H
X-Robots-Tag:noindex
X-PUBLISHED-TTL:PT1H
BEGIN:VTIMEZONE
TZID:Europe/London
BEGIN:DAYLIGHT
TZOFFSETFROM:+0000
TZOFFSETTO:+0100
TZNAME:BST
DTSTART:20170326T010000
END:DAYLIGHT
BEGIN:STANDARD
TZOFFSETFROM:+0100
TZOFFSETTO:+0000
TZNAME:GMT
DTSTART:20171029T010000
END:STANDARD
BEGIN:DAYLIGHT
TZOFFSETFROM:+0000
TZOFFSETTO:+0100
TZNAME:BST
DTSTART:20180325T010000
END:DAYLIGHT
BEGIN:STANDARD
TZOFFSETFROM:+0100
TZOFFSETTO:+0000
TZNAME:GMT
DTSTART:20181028T010000
END:STANDARD
BEGIN:DAYLIGHT
TZOFFSETFROM:+0000
TZOFFSETTO:+0100
TZNAME:BST
DTSTART:20190331T010000
END:DAYLIGHT
BEGIN:STANDARD
TZOFFSETFROM:+0100
TZOFFSETTO:+0000
TZNAME:GMT
DTSTART:20191027T010000
END:STANDARD
END:VTIMEZONE
BEGIN:VEVENT
DTSTART;TZID=Europe/London:20180927T100000
DTEND;TZID=Europe/London:20180927T130000
DTSTAMP:20260422T235049
CREATED:20171115T155526Z
LAST-MODIFIED:20171115T155526Z
UID:4231-1538042400-1538053200@newwinecymru.co.uk
SUMMARY:North West Leaders' Day
DESCRIPTION:You are invited to the next north west Leaders’ Day. \nMeeting on Anglesey \nThe day includes time for teaching\, ministry\, lunch\, prayer and fellowship. \nSuggested lunch donation\, £5. \nPlease let us know if you are able to attend by emailing: \ninfo@newwinecymru.co.uk \nThis event is open to all leaders and their leadership teams. \nJulian Richards is the speaker \nVenue: \nCanolfan Ebeneser\nBridge street\nLlangefni\nLL77 7PN
URL:https://newwinecymru.co.uk/event/north-west-leaders-day-5
LOCATION:Canolfan Ebeneser\, Bridge Street\, Llangefni\, Anglesey\, LL77 7PN
CATEGORIES:Church Leaders,North Wales,North West,Women in Leadership,Young Leaders
ATTACH;FMTTYPE=:
END:VEVENT
BEGIN:VEVENT
DTSTART;TZID=Europe/London:20180929T100000
DTEND;TZID=Europe/London:20180929T130000
DTSTAMP:20260422T235049
CREATED:20171115T160615Z
LAST-MODIFIED:20171115T160615Z
UID:4241-1538215200-1538226000@newwinecymru.co.uk
SUMMARY:LeadUP North
DESCRIPTION:Join us in North Wales for the next LeadUP breakfast of 2018! \nLeadUP is an initiative for leaders in the 18-30 age range. \nCome and be inspired\, equipped and encouraged. \nFor further details and to sign up\, email leadup.north@newwinecymru.co.uk \nVenue: Caersalem Chapel\, Caernarfon \nSpeaker:We are thrilled that Julian Richards will be our speaker
URL:https://newwinecymru.co.uk/event/leadup-north-5
LOCATION:Caersalem Chapel\, 22a Garnon Street\, Caernarfon\, Ll55 2RB
CATEGORIES:Church Leaders,North East,North Wales,North West,Women in Leadership,Young Leaders
ATTACH;FMTTYPE=image/png:https://newwinecymru.s3.eu-west-2.amazonaws.com/wp-content/uploads/2017/11/25130302/Screen-Shot-2017-11-15-at-11.28.41.png
END:VEVENT
END:VCALENDAR