BEGIN:VCALENDAR
VERSION:2.0
PRODID:-//New Wine Cymru - ECPv6.15.18//NONSGML v1.0//EN
CALSCALE:GREGORIAN
METHOD:PUBLISH
X-WR-CALNAME:New Wine Cymru
X-ORIGINAL-URL:https://newwinecymru.co.uk
X-WR-CALDESC:Events for New Wine Cymru
REFRESH-INTERVAL;VALUE=DURATION:PT1H
X-Robots-Tag:noindex
X-PUBLISHED-TTL:PT1H
BEGIN:VTIMEZONE
TZID:Europe/London
BEGIN:DAYLIGHT
TZOFFSETFROM:+0000
TZOFFSETTO:+0100
TZNAME:BST
DTSTART:20200329T010000
END:DAYLIGHT
BEGIN:STANDARD
TZOFFSETFROM:+0100
TZOFFSETTO:+0000
TZNAME:GMT
DTSTART:20201025T010000
END:STANDARD
BEGIN:DAYLIGHT
TZOFFSETFROM:+0000
TZOFFSETTO:+0100
TZNAME:BST
DTSTART:20210328T010000
END:DAYLIGHT
BEGIN:STANDARD
TZOFFSETFROM:+0100
TZOFFSETTO:+0000
TZNAME:GMT
DTSTART:20211031T010000
END:STANDARD
BEGIN:DAYLIGHT
TZOFFSETFROM:+0000
TZOFFSETTO:+0100
TZNAME:BST
DTSTART:20220327T010000
END:DAYLIGHT
BEGIN:STANDARD
TZOFFSETFROM:+0100
TZOFFSETTO:+0000
TZNAME:GMT
DTSTART:20221030T010000
END:STANDARD
END:VTIMEZONE
BEGIN:VEVENT
DTSTART;TZID=Europe/London:20210226T103000
DTEND;TZID=Europe/London:20210226T114500
DTSTAMP:20260423T043445
CREATED:20210119T123339Z
LAST-MODIFIED:20210219T152002Z
UID:6827-1614335400-1614339900@newwinecymru.co.uk
SUMMARY:Leadership - Lessons learned through Story!
DESCRIPTION:last session Friday 26 Feb\n\n\n\nThe Leadership journey with Paul Francis. Exploring;\n\n\n\nStories that shapeCreative arts that inspirePeople that encourage and challenge\n\n\n\nRegister here\n\n\n\nSame time for 3 weeks during February  \n\n\n\nThurs 11 Feb 10:30amFri 19 Feb 10:30amFri 26 Feb 10:30am\n\n\n\nPaul says: \n\n\n\nUsing story to share lessons I have learned about leadership. Sharing my journey of leadership through stories that have shaped me\, creative arts that have inspired me\, and books & people that have encouraged and challenged me. From my childhood experiences to how my brain is wired\, from brokenness to liberation\, we will explore the influence of these and other factors on my spirituality and leadership. This will all be rooted in Scripture. \n\n\n\nRegister here\n\n\n\n\n\n\n\n\n\n\n\nPaul Francis\n\n\n\nPaul has been in Leadership for over 30 years and currently leads Glenwood Church in Cardiff. \n\n\n\nHe is also a member of the NWC Core team and leads the South East Region
URL:https://newwinecymru.co.uk/event/leaders-lessons-3
CATEGORIES:Church Leaders,Ministry Leaders,Women in Leadership,Worship,Young Leaders
ATTACH;FMTTYPE=image/jpeg:https://newwinecymru.s3.eu-west-2.amazonaws.com/wp-content/uploads/2021/01/25130044/timj-Vrv_nZHaFTc-unsplash-scaled.jpg
END:VEVENT
END:VCALENDAR