BEGIN:VCALENDAR
VERSION:2.0
PRODID:-//New Wine Cymru - ECPv6.15.18//NONSGML v1.0//EN
CALSCALE:GREGORIAN
METHOD:PUBLISH
X-ORIGINAL-URL:https://newwinecymru.co.uk
X-WR-CALDESC:Events for New Wine Cymru
REFRESH-INTERVAL;VALUE=DURATION:PT1H
X-Robots-Tag:noindex
X-PUBLISHED-TTL:PT1H
BEGIN:VTIMEZONE
TZID:Europe/London
BEGIN:DAYLIGHT
TZOFFSETFROM:+0000
TZOFFSETTO:+0100
TZNAME:BST
DTSTART:20190331T010000
END:DAYLIGHT
BEGIN:STANDARD
TZOFFSETFROM:+0100
TZOFFSETTO:+0000
TZNAME:GMT
DTSTART:20191027T010000
END:STANDARD
BEGIN:DAYLIGHT
TZOFFSETFROM:+0000
TZOFFSETTO:+0100
TZNAME:BST
DTSTART:20200329T010000
END:DAYLIGHT
BEGIN:STANDARD
TZOFFSETFROM:+0100
TZOFFSETTO:+0000
TZNAME:GMT
DTSTART:20201025T010000
END:STANDARD
BEGIN:DAYLIGHT
TZOFFSETFROM:+0000
TZOFFSETTO:+0100
TZNAME:BST
DTSTART:20210328T010000
END:DAYLIGHT
BEGIN:STANDARD
TZOFFSETFROM:+0100
TZOFFSETTO:+0000
TZNAME:GMT
DTSTART:20211031T010000
END:STANDARD
END:VTIMEZONE
BEGIN:VEVENT
DTSTART;TZID=Europe/London:20201124T100000
DTEND;TZID=Europe/London:20201124T120000
DTSTAMP:20260423T093354
CREATED:20200929T130403Z
LAST-MODIFIED:20201013T131006Z
UID:6519-1606212000-1606219200@newwinecymru.co.uk
SUMMARY:South West Leaders' Day
DESCRIPTION:For all leaders & their teams with speaker Chris Vaz\n\n\n\nThis event is available on Zoom. To access the code\, please email the office at: info@newwinecymru.co.uk \n\n\n\n \n\n\n\n\n\n\n\n\n\n\n\nChris Vaz\n\n\n\nSince 2012\, Chris has been the Senior Minister at Gateway Church\, Abergavenny- a thriving fellowship that is experiencing significant growth. Prior to coming to Wales\, Chris was Associate Pastor at a vibrant church in Wembley London. Chris and his wife Lyra were both born and raised in India and came to Britain as missionaries in 2006. Chris has a passion for leadership training and helping churches to grow. He leads the East Valleys Network.
URL:https://newwinecymru.co.uk/event/south-west-leaders-day-17
CATEGORIES:Church Leaders,Ministry Leaders,South West,Women in Leadership,Worship,Young Leaders
ATTACH;FMTTYPE=image/jpeg:https://newwinecymru.s3.eu-west-2.amazonaws.com/wp-content/uploads/2020/01/25130334/shutterstock_99570950-scaled.jpg
END:VEVENT
END:VCALENDAR