BEGIN:VCALENDAR
VERSION:2.0
PRODID:-//New Wine Cymru - ECPv6.15.18//NONSGML v1.0//EN
CALSCALE:GREGORIAN
METHOD:PUBLISH
X-ORIGINAL-URL:https://newwinecymru.co.uk
X-WR-CALDESC:Events for New Wine Cymru
REFRESH-INTERVAL;VALUE=DURATION:PT1H
X-Robots-Tag:noindex
X-PUBLISHED-TTL:PT1H
BEGIN:VTIMEZONE
TZID:Europe/London
BEGIN:DAYLIGHT
TZOFFSETFROM:+0000
TZOFFSETTO:+0100
TZNAME:BST
DTSTART:20180325T010000
END:DAYLIGHT
BEGIN:STANDARD
TZOFFSETFROM:+0100
TZOFFSETTO:+0000
TZNAME:GMT
DTSTART:20181028T010000
END:STANDARD
BEGIN:DAYLIGHT
TZOFFSETFROM:+0000
TZOFFSETTO:+0100
TZNAME:BST
DTSTART:20190331T010000
END:DAYLIGHT
BEGIN:STANDARD
TZOFFSETFROM:+0100
TZOFFSETTO:+0000
TZNAME:GMT
DTSTART:20191027T010000
END:STANDARD
BEGIN:DAYLIGHT
TZOFFSETFROM:+0000
TZOFFSETTO:+0100
TZNAME:BST
DTSTART:20200329T010000
END:DAYLIGHT
BEGIN:STANDARD
TZOFFSETFROM:+0100
TZOFFSETTO:+0000
TZNAME:GMT
DTSTART:20201025T010000
END:STANDARD
END:VTIMEZONE
BEGIN:VEVENT
DTSTART;TZID=Europe/London:20190509T100000
DTEND;TZID=Europe/London:20190509T133000
DTSTAMP:20260424T164825
CREATED:20190227T150224Z
LAST-MODIFIED:20190423T200638Z
UID:4943-1557396000-1557408600@newwinecymru.co.uk
SUMMARY:Leaders' Day: mid Wales
DESCRIPTION:Leaders’ Day mid Wales. \nJoin us in mid Wales for a time of teaching\, ministry\, prayer\, lunch and fellowship. \nSuggested lunch donation\, £5. \nEmail info@newwinecymru.co.uk to let us know if you can attend. \nThis event is open to all leaders and their leadership teams. \nSpeaker: to be confirmed \nVenue: St Paul’s Methodist Church\, Aberystwyth\, SY23 2NN.
URL:https://newwinecymru.co.uk/event/leaders-day-mid-wales
CATEGORIES:Business,Church Leaders,Mid Wales,Ministry Leaders,Women in Leadership,Worship,Young Leaders
ATTACH;FMTTYPE=image/png:https://newwinecymru.s3.eu-west-2.amazonaws.com/wp-content/uploads/2019/02/25130516/midwales-detail.png
END:VEVENT
END:VCALENDAR