BEGIN:VCALENDAR
VERSION:2.0
PRODID:-//New Wine Cymru - ECPv6.15.18//NONSGML v1.0//EN
CALSCALE:GREGORIAN
METHOD:PUBLISH
X-WR-CALNAME:New Wine Cymru
X-ORIGINAL-URL:https://newwinecymru.co.uk
X-WR-CALDESC:Events for New Wine Cymru
REFRESH-INTERVAL;VALUE=DURATION:PT1H
X-Robots-Tag:noindex
X-PUBLISHED-TTL:PT1H
BEGIN:VTIMEZONE
TZID:Europe/London
BEGIN:DAYLIGHT
TZOFFSETFROM:+0000
TZOFFSETTO:+0100
TZNAME:BST
DTSTART:20130331T010000
END:DAYLIGHT
BEGIN:STANDARD
TZOFFSETFROM:+0100
TZOFFSETTO:+0000
TZNAME:GMT
DTSTART:20131027T010000
END:STANDARD
BEGIN:DAYLIGHT
TZOFFSETFROM:+0000
TZOFFSETTO:+0100
TZNAME:BST
DTSTART:20140330T010000
END:DAYLIGHT
BEGIN:STANDARD
TZOFFSETFROM:+0100
TZOFFSETTO:+0000
TZNAME:GMT
DTSTART:20141026T010000
END:STANDARD
BEGIN:DAYLIGHT
TZOFFSETFROM:+0000
TZOFFSETTO:+0100
TZNAME:BST
DTSTART:20150329T010000
END:DAYLIGHT
BEGIN:STANDARD
TZOFFSETFROM:+0100
TZOFFSETTO:+0000
TZNAME:GMT
DTSTART:20151025T010000
END:STANDARD
END:VTIMEZONE
BEGIN:VEVENT
DTSTART;TZID=Europe/London:20141120T100000
DTEND;TZID=Europe/London:20141120T143000
DTSTAMP:20260419T144934
CREATED:20140918T143534Z
LAST-MODIFIED:20140918T143534Z
UID:1737-1416477600-1416493800@newwinecymru.co.uk
SUMMARY:Mid Wales Network day
DESCRIPTION:You are invited to the last Mid Wales Network day of 2014. \nThe meeting will take place at Riverside Community Centre\, Builth Wells. \nIt starts at 10:00 am and will include time for teaching\, ministry\, lunch\, prayer and fellowship. \nThe guest speaker for the day is Steve Ball\, Lead Pastor of City Temple\, Cardiff \nLunch is either bring a packed lunch or use the local shops and amenities to purchase something. \nPlease let us know if you are able to attend by emailing: \ninfo@newwinecymru.co.uk \nThis event is open to all leaders\, and  leadership teams. \nFor more information on the speaker\, please click here \nHave a great Christmas and see you soon in early 2015
URL:https://newwinecymru.co.uk/event/mid-wales-network-day-7
LOCATION:Riverside Community Centre\, Castle Street\, Builth Wells\, LD2 3BN
CATEGORIES:Church Leaders,Mid Wales Old
ATTACH;FMTTYPE=:
ORGANIZER;CN="Jez Fage":MAILTO:jezfage@newwinecymru.co.uk
END:VEVENT
END:VCALENDAR