BEGIN:VCALENDAR
VERSION:2.0
PRODID:-//New Wine Cymru - ECPv6.15.18//NONSGML v1.0//EN
CALSCALE:GREGORIAN
METHOD:PUBLISH
X-WR-CALNAME:New Wine Cymru
X-ORIGINAL-URL:https://newwinecymru.co.uk
X-WR-CALDESC:Events for New Wine Cymru
REFRESH-INTERVAL;VALUE=DURATION:PT1H
X-Robots-Tag:noindex
X-PUBLISHED-TTL:PT1H
BEGIN:VTIMEZONE
TZID:Europe/London
BEGIN:DAYLIGHT
TZOFFSETFROM:+0000
TZOFFSETTO:+0100
TZNAME:BST
DTSTART:20180325T010000
END:DAYLIGHT
BEGIN:STANDARD
TZOFFSETFROM:+0100
TZOFFSETTO:+0000
TZNAME:GMT
DTSTART:20181028T010000
END:STANDARD
BEGIN:DAYLIGHT
TZOFFSETFROM:+0000
TZOFFSETTO:+0100
TZNAME:BST
DTSTART:20190331T010000
END:DAYLIGHT
BEGIN:STANDARD
TZOFFSETFROM:+0100
TZOFFSETTO:+0000
TZNAME:GMT
DTSTART:20191027T010000
END:STANDARD
BEGIN:DAYLIGHT
TZOFFSETFROM:+0000
TZOFFSETTO:+0100
TZNAME:BST
DTSTART:20200329T010000
END:DAYLIGHT
BEGIN:STANDARD
TZOFFSETFROM:+0100
TZOFFSETTO:+0000
TZNAME:GMT
DTSTART:20201025T010000
END:STANDARD
END:VTIMEZONE
BEGIN:VEVENT
DTSTART;TZID=Europe/London:20190511T100000
DTEND;TZID=Europe/London:20190511T133000
DTSTAMP:20260419T235910
CREATED:20190227T150453Z
LAST-MODIFIED:20190227T150453Z
UID:4946-1557568800-1557581400@newwinecymru.co.uk
SUMMARY:LeadUP Breakfast: Valleys
DESCRIPTION:LeadUP breakfast for the Valleys. \nLeadUP is an initiative for leaders in the 18-30 age range to be inspired\, equipped and encouraged. \nEmail leadup.valleys@newwinecymru.co.uk for further details or to join the mailing list. \nVenue: Encounter House\, Bargoed\, \nSpeaker: to be confirmed
URL:https://newwinecymru.co.uk/event/leadup-breakfast-valleys
LOCATION:Encounter House Church\, Pengam Road\, Aberbargoed\, CF81 9FW
CATEGORIES:Business,Church Leaders,East Valleys,Valleys,West Valleys,Women in Leadership,Worship,Young Leaders
ATTACH;FMTTYPE=image/png:https://newwinecymru.s3.eu-west-2.amazonaws.com/wp-content/uploads/2017/11/25130302/Screen-Shot-2017-11-15-at-11.28.41.png
END:VEVENT
END:VCALENDAR